BEGIN:VCALENDAR
VERSION:2.0
PRODID:-//ChamberMaster//Event Calendar 2.0//EN
METHOD:PUBLISH
X-PUBLISHED-TTL:P3D
REFRESH-INTERVAL:P3D
CALSCALE:GREGORIAN
BEGIN:VEVENT
DTSTART:20260510T000000Z
DTEND:20260510T013000Z
X-MICROSOFT-CDO-ALLDAYEVENT:FALSE
SUMMARY:The Roast of Oak Park: No Landmark is Safe!
DESCRIPTION:The Roast of Oak Park: No Progress Left Behind.\n\n\n\nNothing is sacred in this "no-holds-barred" evening of comedy as we roast everyone's favorite progressive paradise. From the endless debates over historical preservation to the "DOOPer" energy that fuels our village\, no leaf-lined street or overpriced coffee shop is safe. Join us at \n\n\n\nComedy Plex in downtown Oak Park for a night dedicated to mocking the town we love to live in (and love to complain about).\n\n\n\nHeadlining the night is \n\n\n\nSean Bair Flannery\n\nThe legendary Chicago storyteller and creator of The Blackout Diaries. Voted the "Best Comedian in Chicago" by the Chicago Reader\, Flannery brings his signature wit and "well-intentioned mayhem" back to his own backyard. He'll be joined by a lineup of the funniest local comics ready to take down everything from the OPRF parking situation to our shared obsession with mid-century modern architecture.\n\n \n\n*2 Drink Minimum Per Person\n\n*Cashless Establishment\n\n*Outside Food Welcome\n\n*Cheap Parking in Holley Court Garage (Next to club)
X-ALT-DESC;FMTTYPE=text/html:<p style="text-align: center\;"><br />\n<strong>The Roast of Oak Park: No Progress Left Behind.</strong><br />\n<br />\nNothing is sacred in this &quot\;no-holds-barred&quot\; evening of comedy as we roast everyone&#39\;s favorite progressive paradise. From the endless debates over historical preservation to the &quot\;DOOPer&quot\; energy that fuels our village\, no leaf-lined street or overpriced coffee shop is safe. Join us at&nbsp\;<br />\n<br />\nComedy Plex in downtown Oak Park for a night dedicated to mocking the town we love to live in (and love to complain about).<br />\n<br />\nHeadlining the night is&nbsp\;<br />\n<br />\n<strong>Sean Bair Flannery</strong><br />\nThe legendary Chicago storyteller and creator of The Blackout Diaries. Voted the &quot\;Best Comedian in Chicago&quot\; by the Chicago Reader\, Flannery brings his signature wit and &quot\;well-intentioned mayhem&quot\; back to his own backyard. He&rsquo\;ll be joined by a lineup of the funniest local comics ready to take down everything from the OPRF parking situation to our shared obsession with mid-century modern architecture.</p>\n\n<p style="text-align: center\;">&nbsp\;</p>\n\n<p style="text-align: center\;">*2 Drink Minimum Per Person</p>\n\n<p style="text-align: center\;">*Cashless Establishment</p>\n\n<p style="text-align: center\;">*Outside Food Welcome</p>\n\n<p style="text-align: center\;">*Cheap Parking in Holley Court Garage (Next to club)</p>\n
LOCATION:Comedy Plex Comedy Club 1128 Lake Street (Lower Level) Oak Park\, Il. 60301
UID:e.1821.44379
SEQUENCE:3
DTSTAMP:20260421T214122Z
URL:https://www.oprfchamber.org/events/details/the-roast-of-oak-park-no-landmark-is-safe-44379
END:VEVENT

END:VCALENDAR
