BEGIN:VCALENDAR
VERSION:2.0
PRODID:-//ChamberMaster//Event Calendar 2.0//EN
METHOD:PUBLISH
X-PUBLISHED-TTL:P3D
REFRESH-INTERVAL:P3D
CALSCALE:GREGORIAN
BEGIN:VEVENT
DTSTART:20261018T000000Z
DTEND:20261018T040000Z
X-MICROSOFT-CDO-ALLDAYEVENT:FALSE
SUMMARY:Stand Tall with Sarah's Inn
DESCRIPTION:Join us for Stand Tall with Sarah's Inn on Saturday\, October 17\, 2026 at the Oak Park Country Club an inspiring evening celebrating our mission\, connecting with community\, and supporting survivors.\n\n\n\nFor information on sponsorship opportunities\, please contact Kelly Mitchell at development@sarahsinn.org to learn more.\n\nStay in the loop  sign up for our emails to be the first to receive event updates\, ticket information\, and more: Sign up here.
X-ALT-DESC;FMTTYPE=text/html:<p><span style="font-size:16px"><span style="font-family:verdana"><span style="color:#000000">Join us for <span style="color:#9b3289"><strong>Stand Tall with Sarah&rsquo\;s Inn</strong></span> on <span style="color:#9b3289"><strong>Saturday\, October 17\, 2026</strong> </span>at the Oak Park Country Club&mdash\;an inspiring evening celebrating our mission\, connecting with community\, and supporting survivors.</span><br />\n<br />\n<em>For information on sponsorship opportunities\, please contact Kelly Mitchell at&nbsp\;</em><span style="color:rgb(0\, 0\, 0)"><a href="mailto:development@sarahsinn.org?subject=Sponsorship" rel="nofollow" style="box-sizing: border-box\; background-color: transparent\; color: rgb(0\, 0\, 0)\; text-decoration-line: none\; overflow-wrap: break-word\; transition: 0.5s\;" target="_blank">development@sarahsinn.org</a></span><em>&nbsp\;to learn more.</em></span></span></p>\n\n<p><span style="font-size:16px"><span style="font-family:verdana"><span style="color:#000000">Stay in the loop&mdash\;&nbsp\;sign up for our emails&nbsp\;to be the first to receive event updates\, ticket information\, and more:&nbsp\;<u><a class="decorated-link" href="https://secure.lglforms.com/form_engine/s/32F4wK_MlzFxg4gEXlzCsg" rel="noopener" style="color: #000000\;">Sign up here</a></u>.</span></span></span></p>\n
LOCATION:Oak Park Country Club 2001 N Thatcher Ave River Grove\, IL 60171
UID:e.1821.44346
SEQUENCE:3
DTSTAMP:20260422T112433Z
URL:https://www.oprfchamber.org/events/details/stand-tall-with-sarah-s-inn-44346
END:VEVENT

END:VCALENDAR
