BEGIN:VCALENDAR
VERSION:2.0
PRODID:-//ChamberMaster//Event Calendar 2.0//EN
METHOD:PUBLISH
X-PUBLISHED-TTL:P3D
REFRESH-INTERVAL:P3D
CALSCALE:GREGORIAN
BEGIN:VEVENT
DTSTART:20191115T160000Z
DTEND:20191115T180000Z
X-MICROSOFT-CDO-ALLDAYEVENT:FALSE
SUMMARY:Nature and Science at Wonder Works: Seashells and Sharks
DESCRIPTION:Let's find out what lives in the salty sea! You can sift shells from sand and touch colorful shells from around the world. Then stare into the tooth filled jaws of preserved sharks and collect fossil teeth from sharks that lived long ago. There will be lots of plastic and plush sharks and other sea life in the Great Outdoors\, plus smaller plastic sea life at the play dough table. The Nature Collector's Swap Shop will be open\, too\, so bring something natural from home to trade for seashells\, sea stars\, corals\, fossil shark teeth\, sting ray spines\, and more!
X-ALT-DESC;FMTTYPE=text/html:Let&#39\;s find out what lives in the salty sea! You can sift shells from sand and touch colorful shells from around the world. Then stare into the tooth filled jaws of preserved sharks and collect fossil teeth from sharks that lived long ago. There will be lots of plastic and plush sharks and other sea life in the Great Outdoors\, plus smaller plastic sea life at the play dough table. The Nature Collector&#39\;s Swap Shop will be open\, too\, so bring something natural from home to trade for seashells\, sea stars\, corals\, fossil shark teeth\, sting ray spines\, and more!
LOCATION:Wonder Works Children's Museum 6445 W. North Ave. Oak Park\, IL 60302
UID:e.1821.35113
SEQUENCE:3
DTSTAMP:20260423T053010Z
URL:https://www.oprfchamber.org/events/details/nature-and-science-at-wonder-works-seashells-and-sharks-35113
END:VEVENT

END:VCALENDAR
