BEGIN:VCALENDAR
VERSION:2.0
PRODID:-//ChamberMaster//Event Calendar 2.0//EN
METHOD:PUBLISH
X-PUBLISHED-TTL:P3D
REFRESH-INTERVAL:P3D
CALSCALE:GREGORIAN
BEGIN:VEVENT
DTSTART:20220514T233000Z
DTEND:20220515T040000Z
X-MICROSOFT-CDO-ALLDAYEVENT:FALSE
SUMMARY:NAMI Celebration of Hope Fundraiser: Salsa\, Samba & Salud!
DESCRIPTION:Join us May 14th for an evening of dance and celebration as we honor recovery through the arts! Our Celebration of Hope Fundraiser will be a Latin-inspired salsa night featuring a salsa dance team\, gourmet Latin-inspired dishes\, vibrant aesthetics and a lounge-like atmosphere--Don't forget your dancing shoes! \n\n\n\nSponsorships and ticket purchases help support the vital mental health services that NAMI Metro Suburban provides to thousands each year. Tickets are $85. To purchase tickets\, visit our website www.namimetsub.org or click here: https://one.bidpal.net/namimetrosuburban/welcome \n\n\n\nMay 14\, 2022 6:30pm\, Nineteenth Century Club\, Oak Park\, IL.  Parking will be easily accessible at the parking garage next door\, located at 166 Forest Ave\, Oak Park\, IL 60301
X-ALT-DESC;FMTTYPE=text/html:Join us May 14th for an evening of dance and celebration as we honor recovery through the arts! Our Celebration of Hope Fundraiser will be a Latin-inspired salsa night featuring a salsa dance team\, gourmet Latin-inspired dishes\, vibrant aesthetics and a lounge-like atmosphere--Don&#39\;t forget your dancing shoes!&nbsp\;<br />\n<br />\nSponsorships and ticket purchases help support the vital mental health services that NAMI Metro Suburban provides to thousands each year. Tickets are $85. To purchase tickets\, visit our website www.namimetsub.org or click here: <a href="https://one.bidpal.net/namimetrosuburban/welcome">https://one.bidpal.net/namimetrosuburban/welcome</a>&nbsp\;<br />\n<br />\nMay 14\, 2022 6:30pm\, Nineteenth Century Club\, Oak Park\, IL.&nbsp\; Parking will be easily accessible at the parking garage next door\, located at 166 Forest Ave\, Oak Park\, IL 60301
LOCATION:178 Forest Ave #1\, Oak Park\, IL 60301
UID:e.1821.39159
SEQUENCE:3
DTSTAMP:20260420T014752Z
URL:https://www.oprfchamber.org/events/details/nami-celebration-of-hope-fundraiser-salsa-samba-salud-39159
END:VEVENT

END:VCALENDAR
