BEGIN:VCALENDAR
VERSION:2.0
PRODID:-//ChamberMaster//Event Calendar 2.0//EN
METHOD:PUBLISH
X-PUBLISHED-TTL:P3D
REFRESH-INTERVAL:P3D
CALSCALE:GREGORIAN
BEGIN:VEVENT
DTSTART:20260427T181500Z
DTEND:20260427T193000Z
X-MICROSOFT-CDO-ALLDAYEVENT:FALSE
SUMMARY:Monday Enrichment - Japanese Tanka Poetry and its key role in one Chicago Family
DESCRIPTION:NANCY MATSUMOTO is a third-generation Japanese American writer and editor based in Toronto\, with a BA in English literature from Pomona College. She writes about food and drink\, agriculture\, Japanese American culture\, art\, and history\, and the environment. Her latest book is Reaping What She Sows: How Women Are Rebuilding Our Broken Food System.  MARIKO ARATANI was born in Nagoya\, Japan. She is a Japanese instructor\, translator/ editor\, and graduate of Tokyo Geijutsu Daigaku University of Fine Arts and Music and University of Wisconsin (MA). A former Japanese instructor at Fordham University in New York\, her publications include "The Ink Dark Moon" and "White Flash Black Rain" . KYOKO MIYABE was born in Yokohama\, Japan and received her Ph.D. in English Literature at Cambridge University\, U.K. She is Chair of the Humanities and Science Department at School of Visual Arts\, New York. As a practicing artist\, she has exhibited in galleries and art institutions in New York and Philadelphia. \n\n\n\nFree and open to the public. Donations are welcome!\n\nTo live stream this program\, visit our website.  A recording will also be available from the website one week later.\n\nhttps://ncca.memberclicks.net
X-ALT-DESC;FMTTYPE=text/html:<br />\n<strong>NANCY MATSUMOTO</strong> is a third-generation Japanese American writer and editor based in Toronto\, with a BA in English literature from Pomona College. She writes about food and drink\, agriculture\, Japanese American culture\, art\, and history\, and the environment. Her latest book is Reaping What She Sows: How Women Are Rebuilding Our Broken Food System.&nbsp\; MARIKO ARATANI was born in Nagoya\, Japan. She is a Japanese instructor\, translator/ editor\, and graduate of Tokyo Geijutsu Daigaku University of Fine Arts and Music and University of Wisconsin (MA). A former Japanese instructor at Fordham University in New York\, her publications include &ldquo\;The Ink Dark Moon&rdquo\; and &ldquo\;White Flash Black Rain&rdquo\; . KYOKO MIYABE was born in Yokohama\, Japan and received her Ph.D. in English Literature at Cambridge University\, U.K. She is Chair of the Humanities and Science Department at School of Visual Arts\, New York. As a practicing artist\, she has exhibited in galleries and art institutions in New York and Philadelphia.&nbsp\;<br />\n<br />\n<span style="color:black"><span style="font-family:arial\,sans-serif"><span style="font-size:12.0pt">Free and open to the public. Donations are welcome!</span></span></span><br />\n<span style="color:#1D2228"><span style="font-family:helvetica\,sans-serif"><span style="font-size:12.0pt">To live stream this program\, visit our website.&nbsp\; A recording will also be available from the website one week later.</span></span></span><br />\n<a href="https://ncca.memberclicks.net/"><strong><u>https://ncca.memberclicks.net</u></strong></a><br />\n&nbsp\;
LOCATION:
UID:e.1821.43513
SEQUENCE:3
DTSTAMP:20260419T165145Z
URL:https://www.oprfchamber.org/events/details/monday-enrichment-japanese-tanka-poetry-and-its-key-role-in-one-chicago-family-43513
END:VEVENT

END:VCALENDAR
