BEGIN:VCALENDAR
VERSION:2.0
PRODID:-//ChamberMaster//Event Calendar 2.0//EN
METHOD:PUBLISH
X-PUBLISHED-TTL:P3D
REFRESH-INTERVAL:P3D
CALSCALE:GREGORIAN
BEGIN:VEVENT
DTSTART:20260406T181500Z
DTEND:20260406T193000Z
X-MICROSOFT-CDO-ALLDAYEVENT:FALSE
SUMMARY:Monday Enrichment - Fryderyk Chopin's Revolution at the Piano
DESCRIPTION:The Polish composer-pianist Fryderyk Chopin (1810-1849) revolutionized the way one played and composed for the piano. Listeners at the time understood that Chopin was creating something radically new. Chopin expert David Kasunic\, Professor of Music at Occidental College\, gives us a guided tour through Chopin's music and piano technique to uncover Chopin's revolutionary approach to the piano and its legacy.\n\n\n\nDavid Kasunic is a Professor of Musicology at Occidental College in Los Angeles\, California\, and the Director of its John Branca Institute for Music. He is the author of many articles and book chapters on Chopin\, most recently on the influence of Meyerbeer's ballet music on Chopin's Parisian waltzes and on the phenomenon of tubercular singing\, which examines the relationship between early nineteenth-century diagnostic pathology and music analysis. Forthcoming are articles on Chopin and philosophy and on Robert Schumann's reception of Chopin\, as well as the Chopin chapter for the Oxford Handbook on Musical Variation.\n\n\n\nFree and open to the public. Donations are welcome!\n\nTo live stream this program\, visit our website.  A recording will also be available from the website one week later.\n\nhttps://ncca.memberclicks.net
X-ALT-DESC;FMTTYPE=text/html:<br />\n<span style="font-size:14px">The Polish composer-pianist Fryderyk Chopin (1810-1849) revolutionized the way one played and composed for the piano. Listeners at the time understood that Chopin was creating something radically new. Chopin expert <strong>David Kasunic</strong>\, Professor of Music at Occidental College\, gives us a guided tour through Chopin&rsquo\;s music and piano technique to uncover Chopin&#39\;s revolutionary approach to the piano and its legacy.<br />\n<br />\n<strong>David Kasunic </strong>is a Professor of Musicology at Occidental College in Los Angeles\, California\, and the Director of its John Branca Institute for Music. He is the author of many articles and book chapters on Chopin\, most recently on the influence of Meyerbeer&rsquo\;s ballet music on Chopin&rsquo\;s Parisian waltzes and on the phenomenon of tubercular singing\, which examines the relationship between early nineteenth-century diagnostic pathology and music analysis. Forthcoming are articles on Chopin and philosophy and on Robert Schumann&rsquo\;s reception of Chopin\, as well as the Chopin chapter for the Oxford Handbook on Musical Variation.<br />\n<br />\n<span style="color:black"><span style="font-family:arial\,sans-serif">Free and open to the public. Donations are welcome!</span></span><br />\n<span style="color:#1D2228"><span style="font-family:helvetica\,sans-serif">To live stream this program\, visit our website.&nbsp\; A recording will also be available from the website one week later.</span></span><br />\n<a href="https://ncca.memberclicks.net/"><strong><u>https://ncca.memberclicks.net</u></strong></a></span><br />\n&nbsp\;
LOCATION:Nineteenth Century Charitable Association 178 Forest Avenue Oak Park
UID:e.1821.43511
SEQUENCE:3
DTSTAMP:20260419T165601Z
URL:https://www.oprfchamber.org/events/details/monday-enrichment-fryderyk-chopin-s-revolution-at-the-piano-43511
END:VEVENT

END:VCALENDAR
