BEGIN:VCALENDAR
VERSION:2.0
PRODID:-//ChamberMaster//Event Calendar 2.0//EN
METHOD:PUBLISH
X-PUBLISHED-TTL:P3D
REFRESH-INTERVAL:P3D
CALSCALE:GREGORIAN
BEGIN:VEVENT
DTSTART:20260502T170000Z
DTEND:20260502T220000Z
X-MICROSOFT-CDO-ALLDAYEVENT:FALSE
SUMMARY:Model Railroad Open House
DESCRIPTION:Visit the Oak Park Society of Model Engineers' Spring Open House Saturday\, May 2 from 12:00 p.m. to 5:00 p.m.\n\n\n\nHO model trains run there from Chicago to Iowa!\n\nFree admission. Door prizes. Kids of all ages welcomed!\n\nSee the progress made on our three level\, two state layout. Run a train on our DC layout.\n\nLearn about model trains and the many facets of the hobby from a dedicated group of modelers. The club is always open to new members\, too! \n\nThe Oak Park Society of Model Engineers is a unique Oak Park institution in its seventh decade of operation.
X-ALT-DESC;FMTTYPE=text/html:<br />\nVisit the Oak Park Society of Model Engineers&rsquo\; Spring Open House Saturday\, May 2 from 12:00 p.m. to 5:00 p.m.<br />\n<br />\nHO model trains run there from Chicago to Iowa!<br />\nFree admission. Door prizes. Kids of all ages welcomed!<br />\nSee the progress made on our three level\, two state layout. Run a train on our DC layout.<br />\nLearn about model trains and the many facets of the hobby from a dedicated group of modelers. The club is always open to new members\, too!&nbsp\;<br />\nThe Oak Park Society of Model Engineers is a unique Oak Park institution in its seventh decade of operation.
LOCATION:Dole Center 255 Augusta Oak Park
UID:e.1821.44515
SEQUENCE:3
DTSTAMP:20260422T015157Z
URL:https://www.oprfchamber.org/events/details/model-railroad-open-house-05-02-2026-44515
END:VEVENT

END:VCALENDAR
