BEGIN:VCALENDAR
VERSION:2.0
PRODID:-//ChamberMaster//Event Calendar 2.0//EN
METHOD:PUBLISH
X-PUBLISHED-TTL:P3D
REFRESH-INTERVAL:P3D
CALSCALE:GREGORIAN
BEGIN:VEVENT
DTSTART:20220514T010000Z
DTEND:20220514T030000Z
X-MICROSOFT-CDO-ALLDAYEVENT:FALSE
SUMMARY:Friday The 13th Comedy Night
DESCRIPTION:Join MST on the unluckiest day of the year for the third show of its 2022 Comedy Series! It may be Friday the 13th\, but don't let that keep you from an evening of entertainment as relentless as Jason himself! Hosted by Todd Glover\, this stand-up event features Calvin Evans and Bridget McGuire and is headlined by Brian Hicks. Tickets are $15 in advance and $20 at the door. Save $5 and order your tickets now at madisonstreettheater.org
X-ALT-DESC;FMTTYPE=text/html:<span style="background-color:rgb(255\, 255\, 255)\; color:rgb(17\, 17\, 17)\; font-family:roboto\,open sans\,helvetica neue\,helvetica\,arial\,sans-serif\; font-size:18px">Join MST on the unluckiest day of the year for the third show of its 2022 Comedy Series! It may be Friday the 13th\, but don&#39\;t let that keep you from an evening of entertainment as relentless as Jason himself! Hosted by Todd Glover\, this stand-up event features Calvin Evans and Bridget McGuire and is headlined by Brian Hicks. Tickets are $15 in advance and $20 at the door. Save $5 and order your tickets now at&nbsp\;</span><a href="https://madisonstreettheater.org/?fbclid=IwAR0qrQlSOZ1DTIjLG42_2Lf7yT0s_0y6U-b7shv__MOJewpOdWHqAFdi-nM" rel="nofollow" style="box-sizing: border-box\; margin: 20px 0px\; color: rgb(0\, 158\, 19)\; text-decoration-line: none\; font-size: 18px\; line-height: 26.4px\; font-family: Roboto\, &quot\;Open Sans&quot\;\, &quot\;Helvetica Neue&quot\;\, Helvetica\, Arial\, sans-serif\; background-color: rgb(255\, 255\, 255)\;" tabindex="0" target="_blank">madisonstreettheater.org</a>
LOCATION:Madison Street Theater 1010 Madison Street\, Oak Park\, IL 60302
UID:e.1821.39237
SEQUENCE:3
DTSTAMP:20260420T181437Z
URL:https://www.oprfchamber.org/events/details/friday-the-13th-comedy-night-39237
END:VEVENT

END:VCALENDAR
