BEGIN:VCALENDAR
VERSION:2.0
PRODID:-//ChamberMaster//Event Calendar 2.0//EN
METHOD:PUBLISH
X-PUBLISHED-TTL:P3D
REFRESH-INTERVAL:P3D
CALSCALE:GREGORIAN
BEGIN:VEVENT
DTSTART:20260415T000000Z
DTEND:20260415T013000Z
X-MICROSOFT-CDO-ALLDAYEVENT:FALSE
SUMMARY:Freedom and the Founding
DESCRIPTION:As part of our University's Stand Tall for Freedom events in commemoration the 250th anniversary of the signing of the Declaration of Independence\, renowned journalist\, author\, and political commentator Jonah Goldberg will present a lecture on freedom and America's founding. As a pivotal contribution to the rise of the free society\, the American Revolution was a truly radical event in its day and may still be the most important political event in history.
X-ALT-DESC;FMTTYPE=text/html:<br />\nAs part of our University&rsquo\;s Stand Tall for Freedom events in commemoration the 250th anniversary of the signing of the Declaration of Independence\, renowned journalist\, author\, and political commentator Jonah Goldberg will present a lecture on freedom and America&rsquo\;s founding. As a pivotal contribution to the rise of the free society\, the American Revolution was a truly radical event in its day and may still be the most important political event in history.
LOCATION:Concordia University Chicago 7400 Augusta St River Forest\, IL 60305
UID:e.1821.44364
SEQUENCE:3
DTSTAMP:20260419T164727Z
URL:https://www.oprfchamber.org/events/details/freedom-and-the-founding-44364
END:VEVENT

END:VCALENDAR
