BEGIN:VCALENDAR
VERSION:2.0
PRODID:-//ChamberMaster//Event Calendar 2.0//EN
METHOD:PUBLISH
X-PUBLISHED-TTL:P3D
REFRESH-INTERVAL:P3D
CALSCALE:GREGORIAN
BEGIN:VEVENT
DTSTART:20260429T150000Z
DTEND:20260429T160000Z
X-MICROSOFT-CDO-ALLDAYEVENT:FALSE
SUMMARY:Free Estate Planning Workshop: What to Prepare Before It’s Urgent
DESCRIPTION:Sunrise of River Forest is proud to partner with Cathy Yanda of Baird & Warner to host the first session of the Mission Ready: Planning Series created for families\, who want clarity around estate planning and property decisions.\n\n\n\nFree Estate Planning Workshop: What to Prepare Before It's Urgent (educational discussion\, NOT a sales presentation) with special guest Eron McCormick\, Estate Planning and Real Estate Attorney. Wednesday\, April 29 | 10:00 11:00 AM Sunrise of River Forest\, 800 N Harlem Ave\, River Forest\, IL 60305 (coffee provided\; seating limited to 25\; guests welcome).\n\n\n\nTo RSVP\, text PLAN to 773-315-7005 to reserve a seat.
X-ALT-DESC;FMTTYPE=text/html:<br />\nSunrise of River Forest is proud to partner with Cathy Yanda of Baird &amp\; Warner to host the first session of the Mission Ready: Planning Series&mdash\;created for families\, who want clarity around estate planning and property decisions.<br />\n<br />\nFree Estate Planning Workshop: What to Prepare Before It&rsquo\;s Urgent (educational discussion\, NOT a sales presentation) with special guest Eron McCormick\, Estate Planning and Real Estate Attorney. Wednesday\, April 29 | 10:00&ndash\;11:00 AM Sunrise of River Forest\, 800 N Harlem Ave\, River Forest\, IL 60305 (coffee provided\; seating limited to 25\; guests welcome).<br />\n<br />\nTo RSVP\, text PLAN to 773-315-7005 to reserve a seat.
LOCATION:Sunrise of River Forest\, 800 N Harlem Ave\, River Forest\, IL 60305
UID:e.1821.44534
SEQUENCE:3
DTSTAMP:20260419T164345Z
URL:https://www.oprfchamber.org/events/details/free-estate-planning-workshop-what-to-prepare-before-it-s-urgent-44534
END:VEVENT

END:VCALENDAR
