BEGIN:VCALENDAR
VERSION:2.0
PRODID:-//ChamberMaster//Event Calendar 2.0//EN
METHOD:PUBLISH
X-PUBLISHED-TTL:P3D
REFRESH-INTERVAL:P3D
CALSCALE:GREGORIAN
BEGIN:VEVENT
DTSTART:20161022T013000Z
DTEND:20161022T013000Z
X-MICROSOFT-CDO-ALLDAYEVENT:FALSE
SUMMARY:Edgar Allan Poe Theatrical Reading
DESCRIPTION:Enjoy a night of Edgar Allan Poe classics\, dramatically performed in different rooms of Historic Pleasant Home by the talented Kevin Bry and Michael Bassett. Guests will be treated to theatrical readings of The Black Cat\, The Raven\, and The Oval Portrait. The evening will also include the debut presentation of The Lamentation of Miss Nellie\, a short narrative commissioned by Pleasant Home Foundation and written by Oak Park author Mary Grace Bertulfo. Bertulfo's story is a fictional account based on the actual tragic death of Nellie Sugrue at Pleasant Home in 1913. There will be a short intermission with wine and cheese.
X-ALT-DESC;FMTTYPE=text/html:Enjoy a night of Edgar Allan Poe classics\, dramatically performed in different rooms of Historic Pleasant Home by the talented Kevin Bry and Michael Bassett. Guests will be treated to theatrical readings of The Black Cat\, The Raven\, and The Oval Portrait. The evening will also include the debut presentation of The Lamentation of Miss Nellie\, a short narrative commissioned by Pleasant Home Foundation and written by Oak Park author Mary Grace Bertulfo. Bertulfo&#39\;s story is a fictional account based on the actual tragic death of Nellie Sugrue at Pleasant Home in 1913. There will be a short intermission with wine and cheese.
LOCATION:Pleasant Home 217 Home Ave\, Oak Park
UID:e.1821.16592
SEQUENCE:3
DTSTAMP:20260423T190732Z
URL:https://www.oprfchamber.org/events/details/edgar-allan-poe-theatrical-reading-10-21-2016-16592
END:VEVENT

END:VCALENDAR
