BEGIN:VCALENDAR
VERSION:2.0
PRODID:-//ChamberMaster//Event Calendar 2.0//EN
METHOD:PUBLISH
X-PUBLISHED-TTL:P3D
REFRESH-INTERVAL:P3D
CALSCALE:GREGORIAN
BEGIN:VEVENT
DTSTART:20260404T150000Z
DTEND:20260404T210000Z
X-MICROSOFT-CDO-ALLDAYEVENT:FALSE
SUMMARY:Clarity of Mind Retreat
DESCRIPTION:Silence\, contemplation\, and meditation. This one-day retreat at the Pavilion in Thatcher Woods is an opportunity to let go of ordinary busy-ness\, and gain insight into your own mind & the world around you. NOTE: advance registration is required for this special retreat.\n\n\n\nWe all have the potential for deep peace within. Buddhist teachings present a step-by-step method for developing a meditative concentration capable of producing a peaceful mind that is able to transform even the most challenging of external circumstances. \n\n\n\nGaining even a little insight of the nature and clarity of our mind will profoundly change our understanding of everything around us and within us. In turn\, we will learn how to protect ourselves from suffering\, sickness\, fears and dangers\, while deepening our experience of inner peace.\n\n\n\nIn this special day-long retreat\, we will have the opportunity to familiarize ourselves with the practice of silence\, contemplation and meditation. We will learn meditation techniques to improve our day to day life\, and enjoy silence until we break for a community lunch. We also have the option to take a nature walk at the serene Thatcher Woods in River Forest. \n\n\n\nAll sessions include a brief teaching and guided meditation and time for question and answer in the last session. The program is suitable for beginners and those with some experience of Kadampa Buddhism. Everyone is welcome!\n\n\n\n\n\nWhat is a retreat?\n\nIn meditation retreat\, we take a break from our normal busyness to gain experience of a particular meditation practice.\n\n\n\nIn a retreat\, we have the opportunity to gain deeper concentration by letting go of our usual busyness\, preoccupations and worries\, to experience a spacious and life-enhancing perspective. \n\n\n\nEven with poor concentration\, we are generally more peaceful\, relaxed\, and happy on retreat than in our ordinary fast-paced\, externalized lives.\n\n\n\nWhether you're a beginner or simply want to enjoy retreat in ideal conditions\, every aspect of these retreats are structured to help you refresh your mind through meditation. During the breaks enjoy meaningful conversation and the beauty and tranquility of Thatcher Woods.    \n\n\n\nMake it a Digital Detox Day: \n\n\n\nAre you feeling over-stimulated by the modern world and your phone is rarely out of your hand? Are you losing time to tech-based distraction? Is your phone draining you of energy to live with clarity and focus? Instead of sinking into habitual distraction\, now is the time to take back control of our mind. Consider leaving your phone in your car and taking a break.
X-ALT-DESC;FMTTYPE=text/html:<br />\nSilence\, contemplation\, and meditation. This one-day retreat at the Pavilion in Thatcher Woods is an opportunity to let go of ordinary busy-ness\, and gain insight into your own mind &amp\; the world around you. NOTE: advance registration is required for this special retreat.<br />\n<br />\nWe all have the potential for deep peace within. Buddhist teachings present a step-by-step method for developing a meditative concentration capable of producing a peaceful mind that is able to transform even the most challenging of external circumstances.&nbsp\;<br />\n<br />\nGaining even a little insight of the nature and clarity of our mind will profoundly change our understanding of everything around us and within us. In turn\, we will learn how to protect ourselves from suffering\, sickness\, fears and dangers\, while deepening our experience of inner peace.<br />\n<br />\nIn this special day-long retreat\, we will have the opportunity to familiarize ourselves with the practice of silence\, contemplation and meditation. We will learn meditation techniques to improve our day to day life\, and enjoy silence until we break for a community lunch. We also have the option to take a nature walk at the serene Thatcher Woods in River Forest.&nbsp\;<br />\n<br />\nAll sessions include a brief teaching and guided meditation and time for question and answer in the last session. The program is suitable for beginners and those with some experience of Kadampa Buddhism. Everyone is welcome!<br />\n<br />\n<br />\nWhat is a retreat?<br />\nIn meditation retreat\, we take a break from our normal busyness to gain experience of a particular meditation practice.<br />\n<br />\nIn a retreat\, we have the opportunity to gain deeper concentration by letting go of our usual busyness\, preoccupations and worries\, to experience a spacious and life-enhancing perspective.&nbsp\;<br />\n<br />\nEven with poor concentration\, we are generally more peaceful\, relaxed\, and happy on retreat than in our ordinary fast-paced\, externalized lives.<br />\n<br />\nWhether you&rsquo\;re a beginner or simply want to enjoy retreat in ideal conditions\, every aspect of these retreats are structured to help you refresh your mind through meditation. During the breaks enjoy meaningful conversation and the beauty and tranquility of Thatcher Woods.&nbsp\; &nbsp\;&nbsp\;<br />\n<br />\nMake it a Digital Detox Day:&nbsp\;<br />\n<br />\nAre you feeling over-stimulated by the modern world and your phone is rarely out of your hand? Are you losing time to tech-based distraction? Is your phone draining you of energy to live with clarity and focus? Instead of sinking into habitual distraction\, now is the time to take back control of our mind. Consider leaving your phone in your car and taking a break.&nbsp\;
LOCATION:Thatcher Woods Pavilion\, 8030 Chicago Ave\, River Forest\, IL 60305\, USA
UID:e.1821.44381
SEQUENCE:3
DTSTAMP:20260419T165044Z
URL:https://www.oprfchamber.org/events/details/clarity-of-mind-retreat-44381
END:VEVENT

END:VCALENDAR
