BEGIN:VCALENDAR
VERSION:2.0
PRODID:-//ChamberMaster//Event Calendar 2.0//EN
METHOD:PUBLISH
X-PUBLISHED-TTL:P3D
REFRESH-INTERVAL:P3D
CALSCALE:GREGORIAN
BEGIN:VEVENT
DTSTART:20221115T150000Z
DTEND:20221115T220000Z
X-MICROSOFT-CDO-ALLDAYEVENT:FALSE
SUMMARY:Become A Concessionaire at Forest Preserve of Cook County!- Application Available 11/15/22
DESCRIPTION:The Forest Preserve of Cook County is pleased to announce a business opportunity for Concessionaires to offer food\, beverages\, goods\, and services to Forest Preserve patrons in 2023.\n\n\n\nThis Permit offers Concessionaires who operate pushcarts\, non-motorized vending\, and food truck services the opportunity to vend in the Forest Preserves. Starting Thursday\, November 15th\, 2022\, at 9:00am\, Concessionaires can download an application on the FPCC website at https://fpdcc.com/permits/concessions-opportunities for a Daily ($250) or Annual ($500) Concession Permit to sell food\, beverage\, goods or services in the Preserves. It takes approximately 10-15 days for applications to be reviewed and/or approved.\n\n\n\nIf you have any questions\, please contact jean.sheerin@cookcountyil.gov or Lenora.Dailey@cookcountyil.gov. We are excited to work with your company to the enhance the convenience\, enjoyment\, and recreational experience of our patrons while supporting the mission of the Forest Preserves.
X-ALT-DESC;FMTTYPE=text/html:<br />\nThe Forest Preserve of Cook County is pleased to announce a business opportunity for Concessionaires to offer food\, beverages\, goods\, and services to Forest Preserve patrons in 2023.<br />\n<br />\nThis Permit offers Concessionaires who operate pushcarts\, non-motorized vending\, and food truck services the opportunity to vend in the Forest Preserves. Starting Thursday\, November 15th\, 2022\, at 9:00am\, Concessionaires can download an application on the FPCC website at https://fpdcc.com/permits/concessions-opportunities for a Daily ($250) or Annual ($500) Concession Permit to sell food\, beverage\, goods or services in the Preserves. It takes approximately 10-15 days for applications to be reviewed and/or approved.<br />\n<br />\nIf you have any questions\, please contact jean.sheerin@cookcountyil.gov or Lenora.Dailey@cookcountyil.gov. We are excited to work with your company to the enhance the convenience\, enjoyment\, and recreational experience of our patrons while supporting the mission of the Forest Preserves.
LOCATION:Forest Preserves of Cook County 536 N Harlem Ave River Forest\, IL 60305
UID:e.1821.41287
SEQUENCE:3
DTSTAMP:20260421T084450Z
URL:https://www.oprfchamber.org/events/details/become-a-concessionaire-at-forest-preserve-of-cook-county-application-available-11-15-22-41287
END:VEVENT

END:VCALENDAR
