BEGIN:VCALENDAR
VERSION:2.0
PRODID:-//ChamberMaster//Event Calendar 2.0//EN
METHOD:PUBLISH
X-PUBLISHED-TTL:P3D
REFRESH-INTERVAL:P3D
CALSCALE:GREGORIAN
BEGIN:VEVENT
DTSTART;VALUE=DATE:20260915
DTEND;VALUE=DATE:20260916
TRANSP:TRANSPARENT
X-MICROSOFT-CDO-ALLDAYEVENT:TRUE
SUMMARY:2025 Extended Tax Filing Deadline: S Corporations and Partnerships
DESCRIPTION:Tuesday\, September 15\, 2026 is the extended deadline for S Corporations and partnerships to file taxes. Please know that filing an extension extends your time to file your return but not to pay taxes. October may seem far away\, but if you expect to have a balance due\, it's best to file sooner rather than later to minimize penalties and interest on your balance due.\n\n\n\nPlease reach out to Wilson CPA Services if you need help filing your extended return.
X-ALT-DESC;FMTTYPE=text/html:<br />\nTuesday\, September 15\, 2026 is the extended deadline for S Corporations and partnerships to file taxes. Please know that filing an extension extends your time to file your return but not to pay taxes. October may seem far away\, but if you expect to have a balance due\, it&#39\;s best to file sooner rather than later to minimize penalties and interest on your balance due.<br />\n<br />\nPlease reach out to Wilson CPA Services if you need help filing your extended return.
LOCATION:
UID:e.1821.44540
SEQUENCE:3
DTSTAMP:20260421T125434Z
URL:https://www.oprfchamber.org/events/details/2025-extended-tax-filing-deadline-s-corporations-and-partnerships-44540
END:VEVENT

END:VCALENDAR
