BEGIN:VCALENDAR
VERSION:2.0
PRODID:-//ChamberMaster//Event Calendar 2.0//EN
METHOD:PUBLISH
X-PUBLISHED-TTL:P3D
REFRESH-INTERVAL:P3D
CALSCALE:GREGORIAN
BEGIN:VEVENT
DTSTART;VALUE=DATE:20261015
DTEND;VALUE=DATE:20261016
TRANSP:TRANSPARENT
X-MICROSOFT-CDO-ALLDAYEVENT:TRUE
SUMMARY:2025 Extended Tax Filing Deadline: Individuals
DESCRIPTION:Thursday\, October 15\, 2026 is the extended deadline for individuals to file taxes. Please know that filing an extension extends your time to file your return but not to pay taxes. October may seem far away\, but if you expect to have a balance due\, it's best to file sooner rather than later to minimize penalties and interest on your balance due.
X-ALT-DESC;FMTTYPE=text/html:<br />\nThursday\, October 15\, 2026 is the extended deadline for individuals to file taxes. Please know that filing an extension extends your time to file your return but not to pay taxes. October may seem far away\, but if you expect to have a balance due\, it&#39\;s best to file sooner rather than later to minimize penalties and interest on your balance due.
LOCATION:
UID:e.1821.44541
SEQUENCE:3
DTSTAMP:20260421T125336Z
URL:https://www.oprfchamber.org/events/details/2025-extended-tax-filing-deadline-individuals-44541
END:VEVENT

END:VCALENDAR
